BEGIN:VCALENDAR
VERSION:2.0
PRODID:-//ChamberMaster//Event Calendar 2.0//EN
METHOD:PUBLISH
X-PUBLISHED-TTL:P3D
REFRESH-INTERVAL:P3D
CALSCALE:GREGORIAN
BEGIN:VEVENT
DTSTART:20190914T130000Z
DTEND:20190914T220000Z
X-MICROSOFT-CDO-ALLDAYEVENT:FALSE
SUMMARY:3rd Annual Show Me Burnouts
DESCRIPTION:2019 Show Me Burnouts Car Show Flyer\n\nSMOKE 'EM IF YOU GOT 'EM...\n\n\n\nThat's what it's all about at the 3rd annual Show Me Burnouts sponsored by the St. Clair Area Chamber of Commerce...New location this year...Enhanced burnout experience with VIP seating...the Dyno Pull is back...Car Show and NEW this year Jet Boat Show and Swap Meet...food truck vendors...and MORE!
X-ALT-DESC;FMTTYPE=text/html:<a href="https://chambermaster.blob.core.windows.net/userfiles/UserFiles/chambers/1516/File/2019ShowMeBurnoutsCarShowFlyer.jpg">2019 Show Me Burnouts Car Show Flyer</a><br />\n<em><strong><span style="font-family:comic sans ms\;"><span style="font-size:10.0pt\;">SMOKE &#39\;EM IF YOU GOT &#39\;EM...</span></span></strong></em><br />\n<br />\n<strong><em><span style="font-family:comic sans ms\;"><span style="font-size:10.0pt\;">That&#39\;s what it&#39\;s all about at the 3rd annual Show Me Burnouts sponsored by the St. Clair Area Chamber of Commerce...New location this year...Enhanced burnout experience with VIP seating...the Dyno Pull is back...Car Show and NEW this year Jet Boat Show and Swap Meet...food truck vendors...and MORE!</span></span></em></strong><br />\n&nbsp\;
LOCATION:St. Clair R-XIII High School Campus 1015 High School Drive St. Clair\, MO 63077 Burnouts in Bulldog Country will be the best ever!
UID:e.1516.6980
SEQUENCE:3
DTSTAMP:20260424T012727Z
URL:https://business.stclairmo.org/events/details/3rd-annual-show-me-burnouts-6980
END:VEVENT

END:VCALENDAR
