BEGIN:VCALENDAR
VERSION:2.0
PRODID:-//ChamberMaster//Event Calendar 2.0//EN
METHOD:PUBLISH
X-PUBLISHED-TTL:P3D
REFRESH-INTERVAL:P3D
CALSCALE:GREGORIAN
BEGIN:VEVENT
DTSTART:20191028T233000Z
DTEND:20191029T003000Z
X-MICROSOFT-CDO-ALLDAYEVENT:FALSE
SUMMARY:American Red Cross Pillowcase Project
DESCRIPTION:Join in this interactive emergency preparedness program designed for youth ages 8 to 11 and their parents. Space is limited\, please register.
X-ALT-DESC;FMTTYPE=text/html:Join in this interactive emergency preparedness program designed for youth ages 8 to 11 and their parents. Space is limited\, please register.&nbsp\;
LOCATION:Scenic Regional Library\, 515 E. Springfield Rd.\, St. Clair\, MO 63077
UID:e.1516.7001
SEQUENCE:3
DTSTAMP:20260422T161436Z
URL:https://business.stclairmo.org/events/details/american-red-cross-pillowcase-project-7001
END:VEVENT

END:VCALENDAR
