BEGIN:VCALENDAR
VERSION:2.0
PRODID:-//ChamberMaster//Event Calendar 2.0//EN
METHOD:PUBLISH
X-PUBLISHED-TTL:P3D
REFRESH-INTERVAL:P3D
CALSCALE:GREGORIAN
BEGIN:VEVENT
DTSTART:20190511T140000Z
DTEND:20190511T220000Z
X-MICROSOFT-CDO-ALLDAYEVENT:FALSE
SUMMARY:Big Spring Book Sale
DESCRIPTION:Come to the Scenic Regional Library-St. Clair Branch and get some bargains on used books\, DVDs\, and CDs at the Big Spring Book Sale sponsored by the Friends of the Library.
X-ALT-DESC;FMTTYPE=text/html:<span style="background-color:rgb(255\, 255\, 255)\; color:rgb(51\, 51\, 51)\; font-family:sans-serif\,arial\,verdana\,trebuchet ms\; font-size:13px">Come to the Scenic Regional Library-St. Clair Branch and get some bargains on used books\, DVDs\, and CDs at the Big Spring Book Sale sponsored by the Friends of the Library.&nbsp\;</span>
LOCATION:
UID:e.1516.6459
SEQUENCE:3
DTSTAMP:20260425T232151Z
URL:https://business.stclairmo.org/events/details/big-spring-book-sale-05-11-2019-6459
END:VEVENT

END:VCALENDAR
