BEGIN:VCALENDAR
VERSION:2.0
PRODID:-//ChamberMaster//Event Calendar 2.0//EN
METHOD:PUBLISH
X-PUBLISHED-TTL:P3D
REFRESH-INTERVAL:P3D
CALSCALE:GREGORIAN
BEGIN:VEVENT
DTSTART:20250822T213000Z
DTEND:20250823T013000Z
X-MICROSOFT-CDO-ALLDAYEVENT:FALSE
SUMMARY:ECC Music Festival
DESCRIPTION:Season Kickoff Music Festival Join us as we kick off the 25-26 concert season with this free outdoor festival showcasing three standout bands. Soft Crisis is an alt rock band featuring ECC faculty member John Hardecke. Sean Canan's Voodoo Players features Canan at the helm of a revolving cast of talented musicians who celebrate renowned works from a wide array of artists. Soul-inspired roots rock band The Mighty Pines includes Neil Salsich\, a contestant on season 23 of NBC's The Voice. Gather to enjoy an evening full of fun\, food\, and music on the ECC Quad! 4:30 p.m. Soft Crisis 5:30 p.m. Sean Canan's Voodoo Players 7:00 p.m. The Mighty Pines Please bring lawn chairs and/or blankets. No outside drinks or coolers.
X-ALT-DESC;FMTTYPE=text/html:Season Kickoff Music Festival Join us as we kick off the 25-26 concert season with this free outdoor festival showcasing three standout bands. Soft Crisis is an alt rock band featuring ECC faculty member John Hardecke. Sean Canan&rsquo\;s Voodoo Players features Canan at the helm of a revolving cast of talented musicians who celebrate renowned works from a wide array of artists. Soul-inspired roots rock band The Mighty Pines includes Neil Salsich\, a contestant on season 23 of NBC&rsquo\;s The Voice. Gather to enjoy an evening full of fun\, food\, and music on the ECC Quad! 4:30 p.m. Soft Crisis 5:30 p.m. Sean Canan&rsquo\;s Voodoo Players 7:00 p.m. The Mighty Pines Please bring lawn chairs and/or blankets. No outside drinks or coolers.
LOCATION:East Central College 1964 Prairie Dell Rd\, Union\, MO 63084
UID:e.1516.8145
SEQUENCE:3
DTSTAMP:20260421T085828Z
URL:https://business.stclairmo.org/events/details/ecc-music-festival-08-22-2025-8145
END:VEVENT

END:VCALENDAR
