BEGIN:VCALENDAR
VERSION:2.0
PRODID:-//ChamberMaster//Event Calendar 2.0//EN
METHOD:PUBLISH
X-PUBLISHED-TTL:P3D
REFRESH-INTERVAL:P3D
CALSCALE:GREGORIAN
BEGIN:VEVENT
DTSTART:20190503T220000Z
DTEND:20190504T020000Z
X-MICROSOFT-CDO-ALLDAYEVENT:FALSE
SUMMARY:First Friday Food Trucks
DESCRIPTION:First Friday Food Trucks Kicks Off Its Season on May 3rd!  Come and enjoy food truck fare from St. Louisianaq\, Wingnut\, Crooked Boot\, and Dana's Shaved Ice and More...Woodshine will be performing under the large pavilion.  Food service begins at 5:00 PM and ends at 9:00 PM.  Live music from 6:00 PM to 8:00 PM.  Bring your lawn chairs and pop-up tents...coolers are welcome!
X-ALT-DESC;FMTTYPE=text/html:<strong><em><span style="font-family:comic sans ms\;"><u>First Friday Food Trucks Kicks Off Its Season on May 3rd!&nbsp\;</u> Come and enjoy food truck fare from St. Louisianaq\, Wingnut\, Crooked Boot\, and Dana&#39\;s Shaved Ice and More...Woodshine will be performing under the large pavilion.&nbsp\; Food service begins at 5:00 PM and ends at 9:00 PM.&nbsp\; Live music from 6:00 PM to 8:00 PM.&nbsp\; Bring your lawn chairs and pop-up tents...coolers are welcome!</span></em></strong>
LOCATION:This event will be held at Orchard Park. Please enter the lower entrance by the sand volleyball court. Food Trucks will be set up in the park close to the stationary small stage and large pavilion.
UID:e.1516.6256
SEQUENCE:3
DTSTAMP:20260425T141418Z
URL:https://business.stclairmo.org/events/details/first-friday-food-trucks-6256
END:VEVENT

END:VCALENDAR
