BEGIN:VCALENDAR
VERSION:2.0
PRODID:-//ChamberMaster//Event Calendar 2.0//EN
METHOD:PUBLISH
X-PUBLISHED-TTL:P3D
REFRESH-INTERVAL:P3D
CALSCALE:GREGORIAN
BEGIN:VEVENT
DTSTART:20200201T173000Z
DTEND:20200201T200000Z
X-MICROSOFT-CDO-ALLDAYEVENT:FALSE
SUMMARY:Fourth Annual Messy Play Day
DESCRIPTION:FOURTH ANNUAL MESSY PLAY DAY The Children's Church program of Holy Trinity Lutheran Church invites the community to a free Indoor Messy Play Day that will take place from 11:30a-2p on Saturday\, February 1\, 2020 at the Christian Life Center at 1501 S Outer Rd\, St. Clair\, MO 63077. We will have a variety of messy activities\, including smashing cereal\, making peanut butter bird feeders\, cookie decorating\, sand play area\, water bead play area\, finger painting\, and more. This year\, we have added a bounce house to the lineup! Kids can also enter a drawing to play messy games\, which will take place at 12:15p (Egg Roulette)\, 12:45p (Jello- Throwing)\, and 1:15p (Whipped Cream Worm Dig). Hot dogs\, chili\, chips\, soda and nachos will be available for purchase.
X-ALT-DESC;FMTTYPE=text/html:FOURTH ANNUAL MESSY PLAY DAY The Children&rsquo\;s Church program of Holy Trinity Lutheran Church invites the community to a free Indoor Messy Play Day that will take place from 11:30a-2p on Saturday\, February 1\, 2020 at the Christian Life Center at 1501 S Outer Rd\, St. Clair\, MO 63077. We will have a variety of messy activities\, including smashing cereal\, making peanut butter bird feeders\, cookie decorating\, sand play area\, water bead play area\, finger painting\, and more. This year\, we have added a bounce house to the lineup! Kids can also enter a drawing to play messy games\, which will take place at 12:15p (Egg Roulette)\, 12:45p (Jello- Throwing)\, and 1:15p (Whipped Cream Worm Dig). Hot dogs\, chili\, chips\, soda and nachos will be available for purchase.
LOCATION:Holy Trinity Lutheran Church Life Center 1501 S. Outer Rd.
UID:e.1516.7009
SEQUENCE:3
DTSTAMP:20260423T211310Z
URL:https://business.stclairmo.org/events/details/fourth-annual-messy-play-day-7009
END:VEVENT

END:VCALENDAR
