BEGIN:VCALENDAR
VERSION:2.0
PRODID:-//ChamberMaster//Event Calendar 2.0//EN
METHOD:PUBLISH
X-PUBLISHED-TTL:P3D
REFRESH-INTERVAL:P3D
CALSCALE:GREGORIAN
BEGIN:VEVENT
DTSTART;VALUE=DATE:20200401
DTEND;VALUE=DATE:20200402
TRANSP:TRANSPARENT
X-MICROSOFT-CDO-ALLDAYEVENT:TRUE
SUMMARY:Mercy Blood Drive
DESCRIPTION:Mercy Blood Drive - Sponsored by IBEW Local #2
X-ALT-DESC;FMTTYPE=text/html:<strong><em><span style="font-family:comic sans ms\;">Mercy Blood Drive - Sponsored by IBEW Local #2</span></em></strong>
LOCATION:IBEW Local 2 Training Center 1075 North Outer Service Road St. Clair\, MO 63077
UID:e.1516.7014
SEQUENCE:3
DTSTAMP:20260421T040630Z
URL:https://business.stclairmo.org/events/details/mercy-blood-drive-7014
END:VEVENT

END:VCALENDAR
