BEGIN:VCALENDAR
VERSION:2.0
PRODID:-//ChamberMaster//Event Calendar 2.0//EN
METHOD:PUBLISH
X-PUBLISHED-TTL:P3D
REFRESH-INTERVAL:P3D
CALSCALE:GREGORIAN
BEGIN:VEVENT
DTSTART:20200304T140000Z
DTEND:20200304T150000Z
X-MICROSOFT-CDO-ALLDAYEVENT:FALSE
SUMMARY:Muffins and Members
DESCRIPTION:Muffins and Members...Muffins compliments of Elizabeth Ramariz\, Sam's Club Representative...\n\nA morning alternative to our luncheon meetings...This is a great opportunity to network via a round table discussion and find out what is going on the the chamber world and the businesses who attend.\n\nGrab a muffin and a cup of coffee and let Jacque McHugh share a little about how social media can impact the success of your business.  Jacque will be our special speaker at our regular luncheon meeting later this month and will be offering sign up for classes that you might be interested in attending.
X-ALT-DESC;FMTTYPE=text/html:<strong><em><span style="font-family:comic sans ms\;">Muffins and Members...<u>Muffins compliments of Elizabeth Ramariz\, Sam&#39\;s Club Representative...</u><br />\nA morning alternative to our luncheon meetings...This is a great opportunity to network via a round table discussion and find out what is going on the the chamber world and the businesses who attend.<br />\nGrab a muffin and a cup of coffee and let Jacque McHugh share a little about how social media can impact the success of your business.&nbsp\; Jacque will be our special speaker at our regular luncheon meeting later this month and will be offering sign up for classes that you might be interested in attending.&nbsp\;</span></em></strong><br />\n&nbsp\;
LOCATION:A Bushel and A Peck 135 South Main St. Clair MO
UID:e.1516.7013
SEQUENCE:3
DTSTAMP:20260422T110347Z
URL:https://business.stclairmo.org/events/details/muffins-and-members-7013
END:VEVENT

END:VCALENDAR
