BEGIN:VCALENDAR
VERSION:2.0
PRODID:-//ChamberMaster//Event Calendar 2.0//EN
METHOD:PUBLISH
X-PUBLISHED-TTL:P3D
REFRESH-INTERVAL:P3D
CALSCALE:GREGORIAN
BEGIN:VEVENT
DTSTART:20190430T170000Z
DTEND:20190531T170000Z
X-MICROSOFT-CDO-ALLDAYEVENT:FALSE
SUMMARY:NOW HIRING FOR ST.CLAIR McDONALD'S
DESCRIPTION:NOW HIRING STARTING AT $9.50 AN HOUR DEPENDING ON AVAILABILITY. APPLY WITHIN OR GO TO SNAGAJOB.COM
X-ALT-DESC;FMTTYPE=text/html:NOW HIRING STARTING AT $9.50 AN HOUR DEPENDING ON AVAILABILITY. APPLY WITHIN OR GO TO SNAGAJOB.COM
LOCATION:ST. CLAIR McDONALD'S 1450 NORTH MAIN STREET
UID:e.1516.6981
SEQUENCE:3
DTSTAMP:20260425T224301Z
URL:https://business.stclairmo.org/events/details/now-hiring-for-st-clair-mcdonald-s-6981
END:VEVENT

END:VCALENDAR
