BEGIN:VCALENDAR
VERSION:2.0
PRODID:-//ChamberMaster//Event Calendar 2.0//EN
METHOD:PUBLISH
X-PUBLISHED-TTL:P3D
REFRESH-INTERVAL:P3D
CALSCALE:GREGORIAN
BEGIN:VEVENT
DTSTART:20190413T190000Z
DTEND:20190413T200000Z
X-MICROSOFT-CDO-ALLDAYEVENT:FALSE
SUMMARY:Read from the Start
DESCRIPTION:For parents and their children age birth to 5 years old. During this 1 hour parent/child workshop\, families receive 4 free children's books and explore fun literacy-based activities together. Registration is required\, limit of 12 families\, please register just one person per family\, but bring the whole family! RSVP today: Call 636.629.2546\, stop by the branch\, or register online.
X-ALT-DESC;FMTTYPE=text/html:For parents and their children age birth to 5 years old. During this 1 hour parent/child workshop\, families receive 4 free children&#39\;s books and explore fun literacy-based activities together. Registration is required\, limit of 12 families\, please register just one person per family\, but bring the whole family! RSVP today: Call 636.629.2546\, stop by the branch\, or register online.&nbsp\;
LOCATION:515 E. Springield Rd.\, St. Clair\, MO 63077
UID:e.1516.6456
SEQUENCE:3
DTSTAMP:20260425T130440Z
URL:https://business.stclairmo.org/events/details/read-from-the-start-6456
END:VEVENT

END:VCALENDAR
