BEGIN:VCALENDAR
VERSION:2.0
PRODID:-//ChamberMaster//Event Calendar 2.0//EN
METHOD:PUBLISH
X-PUBLISHED-TTL:P3D
REFRESH-INTERVAL:P3D
CALSCALE:GREGORIAN
BEGIN:VEVENT
DTSTART:20190830T120000Z
DTEND:20190831T180000Z
X-MICROSOFT-CDO-ALLDAYEVENT:FALSE
SUMMARY:Route 66 Yard Sale
DESCRIPTION:Join us at the Route 66 yard sale located at St. Clair Health Mart. 855 North Commercial Avenue St. Clair\, MO 63077. We will be there form 7AM to 6PM on 8/30/19 and 7AM to 1PM on 8/31/19.
X-ALT-DESC;FMTTYPE=text/html:Join us at the Route 66 yard sale located at St. Clair Health Mart. 855 North Commercial Avenue St. Clair\, MO 63077. We will be there form 7AM to 6PM on 8/30/19 and 7AM to 1PM on 8/31/19.
LOCATION:St. Clair Health Mart Pharmacy 855 North Commercial Ave St. Clair\, MO 63077
UID:e.1516.6991
SEQUENCE:3
DTSTAMP:20260424T181831Z
URL:https://business.stclairmo.org/events/details/route-66-yard-sale-6991
END:VEVENT

END:VCALENDAR
