BEGIN:VCALENDAR
VERSION:2.0
PRODID:-//ChamberMaster//Event Calendar 2.0//EN
METHOD:PUBLISH
X-PUBLISHED-TTL:P3D
REFRESH-INTERVAL:P3D
CALSCALE:GREGORIAN
BEGIN:VEVENT
DTSTART:20190906T120000Z
DTEND:20190906T190000Z
X-MICROSOFT-CDO-ALLDAYEVENT:FALSE
SUMMARY:SCACOC Golf Tournament
DESCRIPTION:Golf 2019\n\nSt. Clair Area Chamber of Commerce Annual Golf Tournament\n\nFlighted Tournament/4 Person Scramble\n\n7:00 AM Registration - 8:00 AM Shotgun Start
X-ALT-DESC;FMTTYPE=text/html:<strong><em><span style="font-family:comic sans ms\;"><a href="https://chambermaster.blob.core.windows.net/userfiles/UserFiles/chambers/1516/File/GolfTourneyFlyer2019.pdf">Golf 2019</a><br />\nSt. Clair Area Chamber of Commerce Annual Golf Tournament<br />\nFlighted Tournament/4 Person Scramble<br />\n7:00 AM Registration - 8:00 AM Shotgun Start</span></em></strong>
LOCATION:Meramec Lakes Golf Course 321 Birdie Lane St. Clair\, MO 63077
UID:e.1516.6992
SEQUENCE:3
DTSTAMP:20260424T164716Z
URL:https://business.stclairmo.org/events/details/scacoc-golf-tournament-6992
END:VEVENT

END:VCALENDAR
