BEGIN:VCALENDAR
VERSION:2.0
PRODID:-//ChamberMaster//Event Calendar 2.0//EN
METHOD:PUBLISH
X-PUBLISHED-TTL:P3D
REFRESH-INTERVAL:P3D
CALSCALE:GREGORIAN
BEGIN:VEVENT
DTSTART:20191005T230000Z
DTEND:20191006T030000Z
X-MICROSOFT-CDO-ALLDAYEVENT:FALSE
SUMMARY:St. Clair Elks Scholarship Auction
DESCRIPTION:ST CLAIR ELKS SCHOLARSHIP AUCTION
X-ALT-DESC;FMTTYPE=text/html:<u><font face="comic sans ms"><b><i>ST CLAIR ELKS SCHOLARSHIP AUCTION</i></b></font></u>
LOCATION:St. Clair Elks Lodge #2651 35 East North Street St. Clair\, MO 63077
UID:e.1516.7000
SEQUENCE:3
DTSTAMP:20260424T064305Z
URL:https://business.stclairmo.org/events/details/st-clair-elks-scholarship-auction-7000
END:VEVENT

END:VCALENDAR
