BEGIN:VCALENDAR
VERSION:2.0
PRODID:-//ChamberMaster//Event Calendar 2.0//EN
METHOD:PUBLISH
X-PUBLISHED-TTL:P3D
REFRESH-INTERVAL:P3D
CALSCALE:GREGORIAN
BEGIN:VEVENT
DTSTART;VALUE=DATE:20210503
DTEND;VALUE=DATE:20210504
TRANSP:TRANSPARENT
X-MICROSOFT-CDO-ALLDAYEVENT:TRUE
SUMMARY:St. Clair HeathMart Pharmacy 50th Anniversary
DESCRIPTION:You are invited to St. Clair HealthMart Pharmacy 50th Anniversary Party! Come Join Us!\n\nFree Giveaways\, Raffles- Enter to win Fire tablet\, Echo Show\, Gift Certificates and more!\n\nReceive a free reusable tote bag for first 150 people! Ruby the Clown  will be here\, along with Danas Shaved Ice!\n\nCome Join Us from 2 to 5pm on Monday May 3\, 2021.
X-ALT-DESC;FMTTYPE=text/html:You are invited to St. Clair HealthMart Pharmacy 50th Anniversary Party! Come Join Us!<br />\nFree Giveaways\, Raffles- Enter to win Fire tablet\, Echo Show\, Gift Certificates and more!<br />\nReceive a free reusable tote bag for first 150 people! Ruby the Clown&nbsp\; will be here\, along with Danas Shaved Ice!<br />\nCome Join Us from 2 to 5pm on Monday May 3\, 2021.
LOCATION:
UID:e.1516.7020
SEQUENCE:3
DTSTAMP:20260420T100302Z
URL:https://business.stclairmo.org/events/details/st-clair-heathmart-pharmacy-50th-anniversary-7020
END:VEVENT

END:VCALENDAR
